BEGIN:VCALENDAR
VERSION:2.0
PRODID:-//eventon.com NONSGML v1.0//EN
BEGIN:VEVENT
UID:69e7385f301fe
DTSTAMP:20260421T084207
DTSTART:20260416T120000Z
DTEND:20260416T130000Z
TZID:Europe/Madrid
LOCATION:
SUMMARY:Formación WOS: Sesión D4 – Explorar el perfil de una revista en el Journal Citation Reports
DESCRIPTION: Explorar el perfil de una revista en el Journal Citation Reports &nbsp; Objetivos de aprendizaje (nivel avanzado): • Explorar la información del perfil de una revista • Navegar por categorías\,  editoriales o países • Recursos adicionales &nbsp; Duración: 60 min. &nbsp; Inscribirse aquí con tu correo institucional
URL:https://biblioteca.villanueva.edu/?post_type=ajde_events&p=3882
END:VEVENT
END:VCALENDAR