BEGIN:VCALENDAR
VERSION:2.0
PRODID:-//eventon.com NONSGML v1.0//EN
BEGIN:VEVENT
UID:69e59a949c83a
DTSTAMP:20260420T031636
DTSTART:20260421T110000Z
DTEND:20260421T113000Z
TZID:Europe/Madrid
LOCATION:
SUMMARY:Formación en directo eLibro - Especial bibliotecarios
DESCRIPTION: Duración: 30 min. Público: estudiantes\,  profesores\,  investigadores\,  bibliotecarios. Objetivo: Buscar\,  crear una cuenta\,  subrayar\,  compartir carpetas\,  leer online\,  descargar\,  etc. Formación para bibliotecari@s: realizada 2 veces al mes para las personas que administran la plataforma (gestión de cuentas\,  reportes de uso\,  configuraciones generales\,  registros MARC&#8230;) Solicitar certificado de asistencia a capacitacion@elibro.com Inscribirse aquí
URL:https://biblioteca.villanueva.edu/events/formacion-en-directo-elibro-especial-bibliotecarios-15/
END:VEVENT
END:VCALENDAR