BEGIN:VCALENDAR
VERSION:2.0
PRODID:-//eventon.com NONSGML v1.0//EN
BEGIN:VEVENT
UID:69e73cebd066f
DTSTAMP:20260421T090131
DTSTART:20260416T130000Z
DTEND:20260416T140000Z
TZID:Europe/Madrid
LOCATION:
SUMMARY:Formación: Statista Onboarding (en inglés)
DESCRIPTION: Statista Onboarding (Sesión en inglés) ¿Eres nuevo en Statista o quieres refrescar tus conocimientos? Te mostraremos la base de datos de la A a la Z y te prepararemos para la investigación en nuestra plataforma. Agenda: • ¿Cómo empiezo mi investigación? • Consejos y trucos para una investigación eficiente (incluyendo[..]
URL:https://biblioteca.villanueva.edu/?post_type=ajde_events&p=3854
END:VEVENT
END:VCALENDAR