BEGIN:VCALENDAR
VERSION:2.0
PRODID:-//eventon.com NONSGML v1.0//EN
BEGIN:VEVENT
UID:69e7372b5dd82
DTSTAMP:20260421T083659
DTSTART:20260324T133000Z
DTEND:20260324T150000Z
TZID:Europe/Madrid
LOCATION:
SUMMARY:Tertulia Literaria - Edificio B\,  aula 3.3
DESCRIPTION: Hablaremos de Las gratitudes de Delphine de Vigan. Hoy ha muerto una anciana a la que yo quería. A menudo pensaba: &#8220;Le debo tanto.&#8221; O: &#8220;Sin ella\,  probablemente ya no estaría aquí.&#8221; Pensaba: &#8220;Es tan importante para mí.&#8221; Importar\,  deber. Es así como se mide la gratitud? En realidad\,  fui[..]
URL:https://biblioteca.villanueva.edu/?post_type=ajde_events&p=3786
END:VEVENT
END:VCALENDAR